BEGIN:VCALENDAR
VERSION:2.0
PRODID:-//tecnico/math/seminar/clc/NONSGML v1.0//EN
X-WR-CALNAME:Técnico Mathematics Seminars - clc
BEGIN:VEVENT
UID:6807@math.tecnico.ulisboa.pt
DTSTAMP:20220928T075613Z
DTSTART:20221014T140000Z
DTEND:20221014T150000Z
SUMMARY:Jean-Yves Béziau - Classical Propositional Logic without Atoms
LOCATION:https://lc.math.tecnico.ulisboa.pt/seminars/?id=6807
END:VEVENT
END:VCALENDAR